BEGIN:VCALENDAR
VERSION:2.0
PRODID:-//wp-events-plugin.com//6.6.4.4//EN
TZID:Europe/Berlin
X-WR-TIMEZONE:Europe/Berlin
BEGIN:VEVENT
UID:244@kulturhaus-neukirchen.de
DTSTART;TZID=Europe/Berlin;VALUE=DATE:20261106
DTEND;TZID=Europe/Berlin;VALUE=DATE:20261107
DTSTAMP:20251211T124059Z
URL:https://kulturhaus-neukirchen.de/events/50-jahre-kulturhaus-neukirchen
 /
SUMMARY:50 Jahre Kulturhaus Neukirchen
DESCRIPTION:50 Jahre ist es her\, dass das Kulturhaus Neukirchen der Öffen
 tlichkeit für Feiern und Versammlungen übergeben wurde.\nMit unserer Jub
 iläumsveranstaltung “50 Jahre Kulturhaus Neukirchen” wollen wir natü
 rlich an die ruhmreichen Tage der Vergangenheit erinnern\, aber auch einen
  Blick in die Zukunft wagen.\nEuch erwartet an diesem Tag ein abwechslungs
 reiches Programm inkl. Neukirchner Kinder-Zirkus\, Podiumsgespräch\, musi
 kalischer Highlights\, leiblicher Versorgung und Aftershow-Party. Außerde
 m kann im Rahmen der Jubiläumsveranstaltung die Ausstellung “50 Jahre -
  50 Geschichten” besichtigt werden.\nEintritt: frei\nBeginn: ca. 16 Uhr\
 ,\nAftershow-Party: ab 21.30 Uhr
CATEGORIES:Fest,Öffentlich
LOCATION:Saal\, Hötzelsrodaer Straße 2\, Neukirchen\, Deutschland
X-APPLE-STRUCTURED-LOCATION;VALUE=URI;X-ADDRESS=Hötzelsrodaer Straße 2\, 
 Neukirchen\, Deutschland;X-APPLE-RADIUS=100;X-TITLE=Saal:geo:0,0
END:VEVENT
BEGIN:VTIMEZONE
TZID:Europe/Berlin
X-LIC-LOCATION:Europe/Berlin
BEGIN:STANDARD
DTSTART:20261025T020000
TZOFFSETFROM:+0200
TZOFFSETTO:+0100
TZNAME:CET
END:STANDARD
END:VTIMEZONE
END:VCALENDAR