BEGIN:VCALENDAR
VERSION:2.0
PRODID:-//wp-events-plugin.com//6.6.4.4//EN
TZID:Europe/Berlin
X-WR-TIMEZONE:Europe/Berlin
BEGIN:VEVENT
UID:243@kulturhaus-neukirchen.de
DTSTART;TZID=Europe/Berlin:20260925T170000
DTEND;TZID=Europe/Berlin:20260925T220000
DTSTAMP:20251128T123402Z
URL:https://kulturhaus-neukirchen.de/events/anblasen-kirmes/
SUMMARY:Anblasen Kirmes
DESCRIPTION:Startet gemeinsam mit uns stimmungsvoll und feuchtfröhlich ins
  Neukirchner Kirmes-wochenende. Feinste Blasmusik\, kühle Getränken und 
 bekannte Kirmesklassiker\, die zum Mitsingen und Schunkeln einladen\, lass
 en eine ganz besondere Atmosphäre entstehen\, die man einfach erlebt habe
 n muss.\nEintritt: frei
CATEGORIES:Fest,Musik,Öffentlich
LOCATION:Saal\, Hötzelsrodaer Straße 2\, Neukirchen\, Deutschland
X-APPLE-STRUCTURED-LOCATION;VALUE=URI;X-ADDRESS=Hötzelsrodaer Straße 2\, 
 Neukirchen\, Deutschland;X-APPLE-RADIUS=100;X-TITLE=Saal:geo:0,0
END:VEVENT
BEGIN:VTIMEZONE
TZID:Europe/Berlin
X-LIC-LOCATION:Europe/Berlin
BEGIN:DAYLIGHT
DTSTART:20260329T030000
TZOFFSETFROM:+0100
TZOFFSETTO:+0200
TZNAME:CEST
END:DAYLIGHT
END:VTIMEZONE
END:VCALENDAR