BEGIN:VCALENDAR
VERSION:2.0
PRODID:-//wp-events-plugin.com//6.6.4.4//EN
TZID:Europe/Berlin
X-WR-TIMEZONE:Europe/Berlin
BEGIN:VEVENT
UID:190@kulturhaus-neukirchen.de
DTSTART;TZID=Europe/Berlin:20250329T180000
DTEND;TZID=Europe/Berlin:20250329T234500
DTSTAMP:20250215T113152Z
URL:https://kulturhaus-neukirchen.de/events/bayrischer-daemmerschoppen/
SUMMARY:Bayrischer Dämmerschoppen
DESCRIPTION:Die Kirmesgesellschaft Neukirchen lädt ein zum Bayrischen Däm
 merschoppen. Neben Bier und anderen Getränken wird es zünftige Sattmache
 r und selbstverständlich auch Blasmusik geben.\n\nDie Falkner Musikanten 
 sorgen für die passende Stimmung. Alle\, die sich passend zum Motto kleid
 en und im Dirndl oder in der Lederhose kommen\, sparen außerdem beim Eint
 ritt.\n\nEintritt: 10 €\, mit Tracht 8 €
ATTACH;FMTTYPE=image/jpeg:https://kulturhaus-neukirchen.de/wp-content/uplo
 ads/2025/02/f995c857-e2a4-44ab-b98a-ba303edc46c4.jpg
CATEGORIES:Essen&amp;Trinken,Musik,Öffentlich
LOCATION:Saal\, Hötzelsrodaer Straße 2\, Neukirchen\, Deutschland
X-APPLE-STRUCTURED-LOCATION;VALUE=URI;X-ADDRESS=Hötzelsrodaer Straße 2\, 
 Neukirchen\, Deutschland;X-APPLE-RADIUS=100;X-TITLE=Saal:geo:0,0
END:VEVENT
BEGIN:VTIMEZONE
TZID:Europe/Berlin
X-LIC-LOCATION:Europe/Berlin
BEGIN:STANDARD
DTSTART:20241027T020000
TZOFFSETFROM:+0200
TZOFFSETTO:+0100
TZNAME:CET
END:STANDARD
END:VTIMEZONE
END:VCALENDAR