BEGIN:VCALENDAR
VERSION:2.0
PRODID:-//wp-events-plugin.com//6.6.4.4//EN
TZID:Europe/Berlin
X-WR-TIMEZONE:Europe/Berlin
BEGIN:VEVENT
UID:247@kulturhaus-neukirchen.de
DTSTART;TZID=Europe/Berlin:20270206T200000
DTEND;TZID=Europe/Berlin:20270206T220000
DTSTAMP:20251013T120041Z
URL:https://kulturhaus-neukirchen.de/events/comedy-das-geld-liegt-auf-der-
 fensterbank-marie/
SUMMARY:Comedy: Das Geld liegt auf der Fensterbank\, Marie
DESCRIPTION:Bei diesem Programm wird alles besser: Noch schönere Lieder un
 d aberwitzigere Dialoge\, kritischere Themen und überraschendere Pointen!
  „110 Prozent!“\, sagt Friedolin! „Na\, klar!“\, sagt Wiebke. Aber
  das mit den 110 Prozent gilt natürlich auch für die Kinder und die Meer
 schweinchen\, die klimafreundliche Ernährung und die Kreidefarbe\, mit de
 r sie die Treppe streichen wollen. Außerdem sind die Tage bis KW 48 im Gr
 unde schon durchgeplant und nicht zu vergessen: Achtsamkeit und Selbstlieb
 e.\n\nIst das überhaupt zu schaffen? Nein\, aber genau deswegen versuchen
  sie es.\n\nWenn dieses Duo die Bühne betritt\, dann immer mit dem hohen 
 Anspruch\, es glorreich zu versieben. Betonung auf glorreich! Und damit si
 nd sie nicht allein. Glanzvolles Scheitern ist ja der evolutionäre Signat
 ure-Move des Menschen. Wir sind so gut in allem\, dass wir dabei aus Verse
 hen unseren Heimatplaneten kaputt gemacht haben. Ups.\n\n.Mit ihrer eigene
 n Mischung aus kabarettistischem Schlagabtausch\, Witz\, Sprachakrobatik\,
  Improvisation und Musik\, schaffen "Das Geld liegt auf der Fensterbank\, 
 Marie" erneut das Gesamtkleinkunstwerk\, mit dem sie sich einen Namen gema
 cht haben. Und zwar einen ziemlich langen.\n\nWer die Zwei noch nie live e
 rlebt hat\, sie nicht aus "Die Anstalt" oder ihrer SWR3-Comedy kennt\, bek
 ommt jetzt die Chance\, es nicht schon wieder zu versieben!\n\nDie Presse 
 über Das Geld liegt auf der Fensterbank\,Marie:\n\n„Wunderbare Unterhal
 tungskunst.“ MainEcho\n\n„Loriot im 21. Jahrhundert!“ Passauer NP\n\
 n„Ein Muss für Freunde der Kleinkunst.“ Münchner AZ\n\nwww.aufderfen
 sterbank.de
ATTACH;FMTTYPE=image/jpeg:https://kulturhaus-neukirchen.de/wp-content/uplo
 ads/2025/10/9246089f-052b-42ce-a4d8-728871b0b947.jpg
CATEGORIES:Kultur,Öffentlich
LOCATION:Saal\, Hötzelsrodaer Straße 2\, Neukirchen\, Deutschland
X-APPLE-STRUCTURED-LOCATION;VALUE=URI;X-ADDRESS=Hötzelsrodaer Straße 2\, 
 Neukirchen\, Deutschland;X-APPLE-RADIUS=100;X-TITLE=Saal:geo:0,0
END:VEVENT
BEGIN:VTIMEZONE
TZID:Europe/Berlin
X-LIC-LOCATION:Europe/Berlin
BEGIN:STANDARD
DTSTART:20261025T020000
TZOFFSETFROM:+0200
TZOFFSETTO:+0100
TZNAME:CET
END:STANDARD
END:VTIMEZONE
END:VCALENDAR