BEGIN:VCALENDAR
VERSION:2.0
PRODID:-//wp-events-plugin.com//6.6.4.4//EN
TZID:Europe/Berlin
X-WR-TIMEZONE:Europe/Berlin
BEGIN:VEVENT
UID:265@kulturhaus-neukirchen.de
DTSTART;TZID=Europe/Berlin:20260228T180000
DTEND;TZID=Europe/Berlin:20260228T224500
DTSTAMP:20251202T123343Z
URL:https://kulturhaus-neukirchen.de/events/daemmerschoppen-2/
SUMMARY:Dämmerschoppen
DESCRIPTION:Gemeinsam mit der Kirmesgesellschaft Neukirchen laden wir zum B
 ayrischen Dämmerschoppen. Neben Bier und anderen Getränken wird es zünf
 tige Sattmacher und Blasmusik geben.\nEintritt: 10 €\, mit Tracht 8 €
CATEGORIES:Essen&amp;Trinken,Fest,Öffentlich
LOCATION:Saal\, Hötzelsrodaer Straße 2\, Neukirchen\, Deutschland
X-APPLE-STRUCTURED-LOCATION;VALUE=URI;X-ADDRESS=Hötzelsrodaer Straße 2\, 
 Neukirchen\, Deutschland;X-APPLE-RADIUS=100;X-TITLE=Saal:geo:0,0
END:VEVENT
BEGIN:VTIMEZONE
TZID:Europe/Berlin
X-LIC-LOCATION:Europe/Berlin
BEGIN:STANDARD
DTSTART:20251026T020000
TZOFFSETFROM:+0200
TZOFFSETTO:+0100
TZNAME:CET
END:STANDARD
END:VTIMEZONE
END:VCALENDAR