BEGIN:VCALENDAR
VERSION:2.0
PRODID:-//wp-events-plugin.com//6.6.4.4//EN
TZID:Europe/Berlin
X-WR-TIMEZONE:Europe/Berlin
BEGIN:VEVENT
UID:166@kulturhaus-neukirchen.de
DTSTART;TZID=Europe/Berlin:20250103T100000
DTEND;TZID=Europe/Berlin:20250103T140000
DTSTAMP:20241211T063511Z
URL:https://kulturhaus-neukirchen.de/events/generationen-mitbring-brunch/
SUMMARY:Generationen-Mitbring-Brunch
DESCRIPTION:Wichtig: Teilnahme nur nach Voranmeldung bei Jennifer Bätzel\,
  0179/890 27 21 oder Uwe Mähler\, 0176/63 15 77 21 bis zum 28. Dezember 2
 024.\n\nZum Beginn des neuen Jahres öffnen wir unser Kulturhaus ab 10 Uhr
  für ein generationsübergreifendes Beisammensein. Lasst uns gemeinsam br
 unchen und danach in gemütlicher Runde ein paar Spiele spielen. Von Jung 
 bis Alt und auch dazwischen sind alle herzlich willkommen.\n\nDamit wir ei
 n möglichst abwechslungsreiches Buffet aufbauen können\, sollte jeder ei
 ne Kleinigkeit zu essen mitbringen. Das Kulturhaus stellt Kaffee\, Tee\, K
 akao\, Brot\, Brötchen\, Butter/Margarine und eine warme Suppe - hierfür
  wird ein Unkostenbeitrag in Höhe von 6\,00 € eingesammelt.\n\nBei Beda
 rf bieten wir einen Fahrservice zum Kulturhaus und auch wieder nach Hause 
 an. Sprecht bei Bedarf bitte einfach die Organisatoren Jennifer Bätzel un
 d Uwe Mähler an.\n\n&nbsp\;\n\n&nbsp\;
ATTACH;FMTTYPE=image/jpeg:https://kulturhaus-neukirchen.de/wp-content/uplo
 ads/2024/11/Flyer-Generationen-Mitbring-Brunch-2.png
CATEGORIES:Essen&amp;Trinken,Öffentlich
LOCATION:Kneipe\, Hötzelsrodaer Straße 2\, Neukirchen\, Deutschland
X-APPLE-STRUCTURED-LOCATION;VALUE=URI;X-ADDRESS=Hötzelsrodaer Straße 2\, 
 Neukirchen\, Deutschland;X-APPLE-RADIUS=100;X-TITLE=Kneipe:geo:0,0
END:VEVENT
BEGIN:VTIMEZONE
TZID:Europe/Berlin
X-LIC-LOCATION:Europe/Berlin
BEGIN:STANDARD
DTSTART:20241027T020000
TZOFFSETFROM:+0200
TZOFFSETTO:+0100
TZNAME:CET
END:STANDARD
END:VTIMEZONE
END:VCALENDAR