BEGIN:VCALENDAR
VERSION:2.0
PRODID:-//wp-events-plugin.com//6.6.4.4//EN
TZID:Europe/Berlin
X-WR-TIMEZONE:Europe/Berlin
BEGIN:VEVENT
UID:173@kulturhaus-neukirchen.de
DTSTART;TZID=Europe/Berlin:20250419T190000
DTEND;TZID=Europe/Berlin:20250419T234500
DTSTAMP:20250122T134442Z
URL:https://kulturhaus-neukirchen.de/events/hutkonzert-basementheros/
SUMMARY:Hutkonzert: BasementHeroes
DESCRIPTION:Die „Basement Heroes“ sind fünf Musiker\, die sich gefunde
 n haben\, um Songs der 60er bis 90er Jahre zu covern. An der Spitze steht 
 der charismatische Sänger Max\, dessen kraftvolle Stimme die Herzen der Z
 uhörer berührt. An der Gitarre sorgt Udo für mitreißende Riffs und Mel
 odien\, während am Bass Jörg für den groovigen Beat sorgt. Die Band wir
 d komplettiert durch den energiegeladenen Schlagzeuger Gunter und den viel
 seitigen Keyboarder Alex\, die für die perfekte Stimmung auf der Bühne s
 orgen. Zusammen mit ihrem Techniker Micha bringen sie ihre Leidenschaft f
 ür Musik zum Ausdruck und begeistern das Publikum bei jedem Auftritt.\n\n
 Was ist ein Hutkonzert?\n\nBei den  Hutkonzerten im Kulturhaus Neukirchen
  ist der Eintritt generell frei. Im Laufe des Abends geht jedoch "der Hut 
 rum" und jeder Gast darf selbst bestimmen\, was ihm die musikalische Unter
 haltung wert ist.
ATTACH;FMTTYPE=image/jpeg:https://kulturhaus-neukirchen.de/wp-content/uplo
 ads/2025/01/Band_05-25-2024_01-swLOGO-861x1024-1.jpg
CATEGORIES:Musik,Öffentlich
LOCATION:Kneipe\, Hötzelsrodaer Straße 2\, Neukirchen\, Deutschland
X-APPLE-STRUCTURED-LOCATION;VALUE=URI;X-ADDRESS=Hötzelsrodaer Straße 2\, 
 Neukirchen\, Deutschland;X-APPLE-RADIUS=100;X-TITLE=Kneipe:geo:0,0
END:VEVENT
BEGIN:VTIMEZONE
TZID:Europe/Berlin
X-LIC-LOCATION:Europe/Berlin
BEGIN:DAYLIGHT
DTSTART:20250330T030000
TZOFFSETFROM:+0100
TZOFFSETTO:+0200
TZNAME:CEST
END:DAYLIGHT
END:VTIMEZONE
END:VCALENDAR