BEGIN:VCALENDAR
VERSION:2.0
PRODID:-//wp-events-plugin.com//6.6.4.4//EN
TZID:Europe/Berlin
X-WR-TIMEZONE:Europe/Berlin
BEGIN:VEVENT
UID:270@kulturhaus-neukirchen.de
DTSTART;TZID=Europe/Berlin:20260528T200000
DTEND;TZID=Europe/Berlin:20260528T220000
DTSTAMP:20251211T135611Z
URL:https://kulturhaus-neukirchen.de/events/improtheater-improsant/
SUMMARY:Improtheater „Improsant"
DESCRIPTION:Improsant – Die Improshow \nAlles\, was das Theater-Ensemble 
 an Informationen für eine Szene benötigt\, erhält es live von euch: ein
 en Ort\, einen Gegenstand\, ein Genre oder auch nur einen Buchstaben.\nDan
 n wird eingezählt: 5-4-3-2-1-LOS! Was folgt\, wissen weder die Spielenden
  noch die Zuschauenden. Ein Comic\, eine Reality-Show oder eine Oper? Oder
  alles auf einmal? Ob zum Lachen\, zum Weinen\, zum Beklatschen oder zum A
 usbuhen – das wird sich erst am Ende der Szene zeigen. Die Agierenden wa
 gen sich in unbekannte und immer wieder neue Geschichten.\nDafür unverzic
 htbar: Das Publikum! Keine Sorge\, bei „Improsant“ muss niemand auf di
 e Bühne\, aber die Schauspieler fragen nach Orten\, Emotionen und anderen
  kreativen Einfällen – so wird jede Show zum individuellen Erlebnis.\nE
 inlass: 19 Uhr\n\nBeginn: 20 Uhr\nPreis:\n\n 	12 € Erwachsene\n 	7 € U
  18\n\nTickets gibts hier &gt\;&gt\;&gt\;\n\n\nHinweis: Die Veranstaltung 
 findet in der Kneipe statt\, die Anzahl der Plätze ist also limitiert!\n\
 nFoto: Sascha Willms\n\n
ATTACH;FMTTYPE=image/jpeg:https://kulturhaus-neukirchen.de/wp-content/uplo
 ads/2024/11/20191109_1732-scaled.jpg
CATEGORIES:Kultur,Öffentlich
LOCATION:Kneipe\, Hötzelsrodaer Straße 2\, Neukirchen\, Deutschland
X-APPLE-STRUCTURED-LOCATION;VALUE=URI;X-ADDRESS=Hötzelsrodaer Straße 2\, 
 Neukirchen\, Deutschland;X-APPLE-RADIUS=100;X-TITLE=Kneipe:geo:0,0
END:VEVENT
BEGIN:VTIMEZONE
TZID:Europe/Berlin
X-LIC-LOCATION:Europe/Berlin
BEGIN:DAYLIGHT
DTSTART:20260329T030000
TZOFFSETFROM:+0100
TZOFFSETTO:+0200
TZNAME:CEST
END:DAYLIGHT
END:VTIMEZONE
END:VCALENDAR