BEGIN:VCALENDAR
VERSION:2.0
PRODID:-//wp-events-plugin.com//6.6.4.4//EN
TZID:Europe/Berlin
X-WR-TIMEZONE:Europe/Berlin
BEGIN:VEVENT
UID:191@kulturhaus-neukirchen.de
DTSTART;TZID=Europe/Berlin:20250920T190000
DTEND;TZID=Europe/Berlin:20250920T234500
DTSTAMP:20250306T091319Z
URL:https://kulturhaus-neukirchen.de/events/ingo-boogie-the-backbeat-5s/
SUMMARY:Ingo Boogie & The Backbeat 5's
DESCRIPTION:Ingo Boogie &amp\; the Backbeat 5's stehen für handgemachte Ro
 ck‘n‘Roll-Klänge. Zum Repertoire der fünf Musiker gehören neben Kla
 ssikern auch augenzwinkernde Cover\, denen ein rock‘n‘rolliges Gewand 
 verpasst wurde.\nDie Mission der fünf passionierten Musiker: Den Ingo Boo
 gie in jedem einzelnen von uns wecken und für eine möglichst volle Tanzf
 läche sorgen \;-)\nEintritt: ab 10 €\nTickets gibt es im Ticketshop.
ATTACH;FMTTYPE=image/jpeg:https://kulturhaus-neukirchen.de/wp-content/uplo
 ads/2025/02/Ingo-Boogie-and-the-Backbeat-5s-Kulturhaus-Neukirchen.png
CATEGORIES:Musik,Öffentlich
LOCATION:Saal\, Hötzelsrodaer Straße 2\, Neukirchen\, Deutschland
X-APPLE-STRUCTURED-LOCATION;VALUE=URI;X-ADDRESS=Hötzelsrodaer Straße 2\, 
 Neukirchen\, Deutschland;X-APPLE-RADIUS=100;X-TITLE=Saal:geo:0,0
END:VEVENT
BEGIN:VTIMEZONE
TZID:Europe/Berlin
X-LIC-LOCATION:Europe/Berlin
BEGIN:DAYLIGHT
DTSTART:20250330T030000
TZOFFSETFROM:+0100
TZOFFSETTO:+0200
TZNAME:CEST
END:DAYLIGHT
END:VTIMEZONE
END:VCALENDAR