BEGIN:VCALENDAR
VERSION:2.0
PRODID:-//wp-events-plugin.com//6.6.4.4//EN
TZID:Europe/Berlin
X-WR-TIMEZONE:Europe/Berlin
BEGIN:VEVENT
UID:46@kulturhaus-neukirchen.de
DTSTART;TZID=Europe/Berlin:20250118T190000
DTEND;TZID=Europe/Berlin:20250118T234500
DTSTAMP:20241126T185945Z
URL:https://kulturhaus-neukirchen.de/events/irish-folk-konzert/
SUMMARY:Konzert: Folk and More
DESCRIPTION:Folk and More präsentieren euch feinste Irish Folk-Klänge und
  mitreißende Neuinterpretationen bekannter Klassiker. Kommt vorbei und ve
 rbringt gemeinsam mit anderen Musik-Fans einen ausgelassenen Abend.\n\nFol
 k and More ist ein Musikprojekt aus Eisenach um den Barden Sascha "Laschek
 " Mittwoch und steht für handgemachte\, akustische Musik aus den Bereiche
 n Folk\, Blues\, Country\, Americana\, Liedermacher u.v.m. Neben den "typi
 schen" Instrumenten kommen auch eher ausgefallene wie der Dudelsack und di
 e Waldzither zum Einsatz.\n\nKarten sind ab sofort im Vorverkauf für 9 
 € erhältlich - sprecht uns einfach an. \n\nAn der Abendkasse kostet der
  Eintritt 10 €.\n\nFolk and More bei Facebook (externer Link)
ATTACH;FMTTYPE=image/jpeg:https://kulturhaus-neukirchen.de/wp-content/uplo
 ads/2024/02/Flyer-Folk-more-1.png
CATEGORIES:Musik,Öffentlich
LOCATION:Saal\, Hötzelsrodaer Straße 2\, Neukirchen\, Deutschland
X-APPLE-STRUCTURED-LOCATION;VALUE=URI;X-ADDRESS=Hötzelsrodaer Straße 2\, 
 Neukirchen\, Deutschland;X-APPLE-RADIUS=100;X-TITLE=Saal:geo:0,0
END:VEVENT
BEGIN:VTIMEZONE
TZID:Europe/Berlin
X-LIC-LOCATION:Europe/Berlin
BEGIN:STANDARD
DTSTART:20241027T020000
TZOFFSETFROM:+0200
TZOFFSETTO:+0100
TZNAME:CET
END:STANDARD
END:VTIMEZONE
END:VCALENDAR