BEGIN:VCALENDAR
VERSION:2.0
PRODID:-//wp-events-plugin.com//6.6.4.4//EN
TZID:Europe/Berlin
X-WR-TIMEZONE:Europe/Berlin
BEGIN:VEVENT
UID:113@kulturhaus-neukirchen.de
DTSTART;TZID=Europe/Berlin:20240925T170000
DTEND;TZID=Europe/Berlin:20240925T190000
DTSTAMP:20240917T085937Z
URL:https://kulturhaus-neukirchen.de/events/kartenvorverkauf-theater/
SUMMARY:Kartenvorverkauf Theater
DESCRIPTION:Kommt heute zwischen 17 und 19 Uhr vorbei und sichert euch eure
  Tickets für die Theatervorstellungen:\n\n28. 9.\, 15 Uhr: Märchen "Hans
  im Glück"\n\n28. 9.\, 20 Uhr: Komödie "Was Frauen wirklich wollen"\n\n3
 0. 11.\, 15 Uhr: Märchen "Rotkäppchen"\n\n30. 11.\, 20 Uhr: Komödie "Wi
 e entsorge ich meinen Alten?"
CATEGORIES:Kultur,Öffentlich
LOCATION:Kneipe\, Hötzelsrodaer Straße 2\, Neukirchen\, Deutschland
X-APPLE-STRUCTURED-LOCATION;VALUE=URI;X-ADDRESS=Hötzelsrodaer Straße 2\, 
 Neukirchen\, Deutschland;X-APPLE-RADIUS=100;X-TITLE=Kneipe:geo:0,0
END:VEVENT
BEGIN:VTIMEZONE
TZID:Europe/Berlin
X-LIC-LOCATION:Europe/Berlin
BEGIN:DAYLIGHT
DTSTART:20240331T030000
TZOFFSETFROM:+0100
TZOFFSETTO:+0200
TZNAME:CEST
END:DAYLIGHT
END:VTIMEZONE
END:VCALENDAR