BEGIN:VCALENDAR
VERSION:2.0
PRODID:-//wp-events-plugin.com//6.6.4.4//EN
TZID:Europe/Berlin
X-WR-TIMEZONE:Europe/Berlin
BEGIN:VEVENT
UID:172@kulturhaus-neukirchen.de
DTSTART;TZID=Europe/Berlin:20250405T190000
DTEND;TZID=Europe/Berlin:20250405T234500
DTSTAMP:20250318T122818Z
URL:https://kulturhaus-neukirchen.de/events/konzert-brass-conaction/
SUMMARY:Konzert: Brass ConAction
DESCRIPTION:Tickets gibt es im Ticketshop.\n\nBlasmusik = Marsch und Polka?
  Nicht mit Brass ConAction! \n\nDas Modern Brass Quintett aus Dresden hat 
 alles andere als „klassische“ Blasmusik im Gepäck. Mit Trompeten\, Po
 saunen und Sousaphone werden berühmte Hits aus Charts\, Film und Radio de
 r letzten 50 Jahre neu zum Leben erweckt. Die musikalischen Vorbilder sind
  für Kenner unschwer zu erkennen: Lucky Chops\, Broken Brass Ensemble\, M
 nozil Brass und weitere Vertreter des Modern Brass.\n\nRaffiniert und unte
 rhaltsam - auch so kann Blasmusik sein!\n\n&gt\;&gt\;&gt\; www.brassconact
 ion.de\n\n&nbsp\;\n\n&nbsp\;
ATTACH;FMTTYPE=image/jpeg:https://kulturhaus-neukirchen.de/wp-content/uplo
 ads/2025/01/Brass-ConAction_Pressefoto.jpg
CATEGORIES:Musik,Öffentlich
LOCATION:Saal\, Hötzelsrodaer Straße 2\, Neukirchen\, Deutschland
X-APPLE-STRUCTURED-LOCATION;VALUE=URI;X-ADDRESS=Hötzelsrodaer Straße 2\, 
 Neukirchen\, Deutschland;X-APPLE-RADIUS=100;X-TITLE=Saal:geo:0,0
END:VEVENT
BEGIN:VTIMEZONE
TZID:Europe/Berlin
X-LIC-LOCATION:Europe/Berlin
BEGIN:DAYLIGHT
DTSTART:20250330T030000
TZOFFSETFROM:+0100
TZOFFSETTO:+0200
TZNAME:CEST
END:DAYLIGHT
END:VTIMEZONE
END:VCALENDAR