BEGIN:VCALENDAR
VERSION:2.0
PRODID:-//wp-events-plugin.com//6.6.4.4//EN
TZID:Europe/Berlin
X-WR-TIMEZONE:Europe/Berlin
BEGIN:VEVENT
UID:177@kulturhaus-neukirchen.de
DTSTART;TZID=Europe/Berlin:20250510T190000
DTEND;TZID=Europe/Berlin:20250510T234500
DTSTAMP:20250318T123034Z
URL:https://kulturhaus-neukirchen.de/events/konzert-ohne-eva-und-gaeste/
SUMMARY:Newchurch Rocknight
DESCRIPTION:Ohne Eva sind sechs Musiker aus Bischofroda\, die sich dem deut
 schsprachigen Rock verschrieben haben. Zu ihrem Repertoire gehören selbst
 geschriebene Lieder\, die nicht nur ins Ohr\, sondern auch ins Herz gehen.
 \nWer schon einmal reinhören möchte\, findet einige Lieder der Band auf 
 Spotify.\nUnterstützung erhalten ohne Eva bei der 1. Newchurch Rocknight 
 von den Bands Theodor Strom und IGARI aus Berka v. d. H.\nEintritt: VVK ab
  10 €\, AK 15 €\nBeginn: ca. 20 Uhr\nTickets gibt es im Ticketshop.
ATTACH;FMTTYPE=image/jpeg:https://kulturhaus-neukirchen.de/wp-content/uplo
 ads/2025/01/Flyer_Neukirchen_Zeichenflaeche-1.png
CATEGORIES:Musik,Öffentlich
LOCATION:Saal\, Hötzelsrodaer Straße 2\, Neukirchen\, Deutschland
X-APPLE-STRUCTURED-LOCATION;VALUE=URI;X-ADDRESS=Hötzelsrodaer Straße 2\, 
 Neukirchen\, Deutschland;X-APPLE-RADIUS=100;X-TITLE=Saal:geo:0,0
END:VEVENT
BEGIN:VTIMEZONE
TZID:Europe/Berlin
X-LIC-LOCATION:Europe/Berlin
BEGIN:DAYLIGHT
DTSTART:20250330T030000
TZOFFSETFROM:+0100
TZOFFSETTO:+0200
TZNAME:CEST
END:DAYLIGHT
END:VTIMEZONE
END:VCALENDAR