BEGIN:VCALENDAR
VERSION:2.0
PRODID:-//wp-events-plugin.com//6.6.4.4//EN
TZID:Europe/Berlin
X-WR-TIMEZONE:Europe/Berlin
BEGIN:VEVENT
UID:131@kulturhaus-neukirchen.de
DTSTART;TZID=Europe/Berlin:20241028T160000
DTEND;TZID=Europe/Berlin:20241028T170000
DTSTAMP:20241027T123411Z
URL:https://kulturhaus-neukirchen.de/events/mathematik-fuer-schueler-12/
SUMMARY:Mathematik für Schüler
DESCRIPTION:\n\nHeute können Neukirchner Schülerinnen und Schüler ins Ku
 lturhaus kommen\, um sich mit Mathematik zu beschäftigen. Klaus Graßni b
 ietet an:\n\nHausaufgabenbegleitung\, Vorbereitung auf Mathearbeiten\, Üb
 ungsaufgaben unterstützen etc.\n\nWer Lust hat\, ist willkommen. Eine Anm
 eldung ist nicht notwendig. Das Angebot ist getreu unserem Motto Füreinan
 der miteinander selbstverständlich kostenfrei.\n\n\n\n\n\n\n
CATEGORIES:Kinder &amp; Jugend,Öffentlich
LOCATION:Kneipe\, Hötzelsrodaer Straße 2\, Neukirchen\, Deutschland
X-APPLE-STRUCTURED-LOCATION;VALUE=URI;X-ADDRESS=Hötzelsrodaer Straße 2\, 
 Neukirchen\, Deutschland;X-APPLE-RADIUS=100;X-TITLE=Kneipe:geo:0,0
END:VEVENT
BEGIN:VTIMEZONE
TZID:Europe/Berlin
X-LIC-LOCATION:Europe/Berlin
BEGIN:STANDARD
DTSTART:20241027T020000
TZOFFSETFROM:+0200
TZOFFSETTO:+0100
TZNAME:CET
END:STANDARD
END:VTIMEZONE
END:VCALENDAR