BEGIN:VCALENDAR
VERSION:2.0
PRODID:-//wp-events-plugin.com//6.6.4.4//EN
TZID:Europe/Berlin
X-WR-TIMEZONE:Europe/Berlin
BEGIN:VEVENT
UID:122@kulturhaus-neukirchen.de
DTSTART;TZID=Europe/Berlin;VALUE=DATE:20250125
DTEND;TZID=Europe/Berlin;VALUE=DATE:20250126
DTSTAMP:20241027T122932Z
URL:https://kulturhaus-neukirchen.de/events/private-veranstaltung-34/
SUMMARY:Private Veranstaltung
DESCRIPTION:
CATEGORIES:Privat
LOCATION:Saal & Kneipe\, Hötzelsrodaer Straße 2\, Neukirchen\, 99817\, De
 utschland
X-APPLE-STRUCTURED-LOCATION;VALUE=URI;X-ADDRESS=Hötzelsrodaer Straße 2\, 
 Neukirchen\, 99817\, Deutschland;X-APPLE-RADIUS=100;X-TITLE=Saal & Kneipe:
 geo:0,0
END:VEVENT
BEGIN:VTIMEZONE
TZID:Europe/Berlin
X-LIC-LOCATION:Europe/Berlin
BEGIN:STANDARD
DTSTART:20241027T020000
TZOFFSETFROM:+0200
TZOFFSETTO:+0100
TZNAME:CET
END:STANDARD
END:VTIMEZONE
END:VCALENDAR