BEGIN:VCALENDAR
VERSION:2.0
PRODID:-//wp-events-plugin.com//6.6.4.4//EN
TZID:Europe/Berlin
X-WR-TIMEZONE:Europe/Berlin
BEGIN:VEVENT
UID:129@kulturhaus-neukirchen.de
DTSTART;TZID=Europe/Berlin;VALUE=DATE:20250517
DTEND;TZID=Europe/Berlin;VALUE=DATE:20250518
DTSTAMP:20241027T123305Z
URL:https://kulturhaus-neukirchen.de/events/private-veranstaltung-40/
SUMMARY:Private Veranstaltung
DESCRIPTION:
CATEGORIES:Privat
LOCATION:Kneipe\, Hötzelsrodaer Straße 2\, Neukirchen\, Deutschland
X-APPLE-STRUCTURED-LOCATION;VALUE=URI;X-ADDRESS=Hötzelsrodaer Straße 2\, 
 Neukirchen\, Deutschland;X-APPLE-RADIUS=100;X-TITLE=Kneipe:geo:0,0
END:VEVENT
BEGIN:VTIMEZONE
TZID:Europe/Berlin
X-LIC-LOCATION:Europe/Berlin
BEGIN:DAYLIGHT
DTSTART:20250330T030000
TZOFFSETFROM:+0100
TZOFFSETTO:+0200
TZNAME:CEST
END:DAYLIGHT
END:VTIMEZONE
END:VCALENDAR