BEGIN:VCALENDAR
VERSION:2.0
PRODID:-//wp-events-plugin.com//6.6.4.4//EN
TZID:Europe/Berlin
X-WR-TIMEZONE:Europe/Berlin
BEGIN:VEVENT
UID:261@kulturhaus-neukirchen.de
DTSTART;TZID=Europe/Berlin;VALUE=DATE:20251206
DTEND;TZID=Europe/Berlin;VALUE=DATE:20251207
DTSTAMP:20251106T135329Z
URL:https://kulturhaus-neukirchen.de/events/private-veranstaltung-96/
SUMMARY:private Veranstaltung
DESCRIPTION:
CATEGORIES:Privat
LOCATION:Saal & Kneipe\, Hötzelsrodaer Straße 2\, Neukirchen\, 99817\, De
 utschland
X-APPLE-STRUCTURED-LOCATION;VALUE=URI;X-ADDRESS=Hötzelsrodaer Straße 2\, 
 Neukirchen\, 99817\, Deutschland;X-APPLE-RADIUS=100;X-TITLE=Saal & Kneipe:
 geo:0,0
END:VEVENT
BEGIN:VTIMEZONE
TZID:Europe/Berlin
X-LIC-LOCATION:Europe/Berlin
BEGIN:STANDARD
DTSTART:20251026T020000
TZOFFSETFROM:+0200
TZOFFSETTO:+0100
TZNAME:CET
END:STANDARD
END:VTIMEZONE
END:VCALENDAR