BEGIN:VCALENDAR
VERSION:2.0
PRODID:-//wp-events-plugin.com//6.6.4.4//EN
TZID:Europe/Berlin
X-WR-TIMEZONE:Europe/Berlin
BEGIN:VEVENT
UID:264@kulturhaus-neukirchen.de
DTSTART;TZID=Europe/Berlin:20260213T190000
DTEND;TZID=Europe/Berlin:20260213T210000
DTSTAMP:20251128T120934Z
URL:https://kulturhaus-neukirchen.de/events/reisevortrag-skandinavien/
SUMMARY:Reisevortrag: Skandinavien
DESCRIPTION:Der Neukirchner Lutz Raddau nimmt uns mit auf seine Motorrad-Re
 ise durch Skandinavien. Gemeinsam mit zwei Weggefährten machte er sich au
 f den langen Weg vom malerischen Südschweden über das wildromantische La
 pland bis hinauf zum rauen Nordkap. Der Vortrag bietet einen spannenden Mi
 x aus Anekdoten\, Wissenswertem und vielen Bildern.\nEintritt: frei\, im L
 aufe des Abends geht der Hut rum
ATTACH;FMTTYPE=image/jpeg:https://kulturhaus-neukirchen.de/wp-content/uplo
 ads/2025/11/WhatsApp-Image-2025-11-18-at-21.15.44.jpeg
CATEGORIES:Öffentlich,Vortrag
LOCATION:Kneipe\, Hötzelsrodaer Straße 2\, Neukirchen\, Deutschland
X-APPLE-STRUCTURED-LOCATION;VALUE=URI;X-ADDRESS=Hötzelsrodaer Straße 2\, 
 Neukirchen\, Deutschland;X-APPLE-RADIUS=100;X-TITLE=Kneipe:geo:0,0
END:VEVENT
BEGIN:VTIMEZONE
TZID:Europe/Berlin
X-LIC-LOCATION:Europe/Berlin
BEGIN:STANDARD
DTSTART:20251026T020000
TZOFFSETFROM:+0200
TZOFFSETTO:+0100
TZNAME:CET
END:STANDARD
END:VTIMEZONE
END:VCALENDAR