BEGIN:VCALENDAR
VERSION:2.0
PRODID:-//wp-events-plugin.com//6.6.4.4//EN
TZID:Europe/Berlin
X-WR-TIMEZONE:Europe/Berlin
BEGIN:VEVENT
UID:171@kulturhaus-neukirchen.de
DTSTART;TZID=Europe/Berlin:20250403T190000
DTEND;TZID=Europe/Berlin:20250403T210000
DTSTAMP:20250318T122731Z
URL:https://kulturhaus-neukirchen.de/events/reisevortrag/
SUMMARY:Reisevortrag von Lutz Raddau
DESCRIPTION:Lutz Raddau nimmt uns in seinem Vortrag mit auf eine abenteuerl
 iche Reise durch Europa.\n2009 fuhr er mit dem Motorrad von Eisenach aus 
 über Luxemburg\, Frankreich und Italien in die Schweiz und wieder zurück
  nach Hause. Was er unterwegs alles gesehen und erlebt hat\, könnt ihr an
  diesem Abend erfahren.\nEintritt frei\, am Ende geht der Hut rum.\nBeginn
 : ca. 19.30 Uhr\nHinweis: In der Kneipe - begrenzte Plätze
ATTACH;FMTTYPE=image/jpeg:https://kulturhaus-neukirchen.de/wp-content/uplo
 ads/2025/01/Reisevortrag-Lutz-Raddau-Kulturhaus-Neukirchen.jpg
CATEGORIES:Öffentlich,Vortrag
LOCATION:Kneipe\, Hötzelsrodaer Straße 2\, Neukirchen\, Deutschland
X-APPLE-STRUCTURED-LOCATION;VALUE=URI;X-ADDRESS=Hötzelsrodaer Straße 2\, 
 Neukirchen\, Deutschland;X-APPLE-RADIUS=100;X-TITLE=Kneipe:geo:0,0
END:VEVENT
BEGIN:VTIMEZONE
TZID:Europe/Berlin
X-LIC-LOCATION:Europe/Berlin
BEGIN:DAYLIGHT
DTSTART:20250330T030000
TZOFFSETFROM:+0100
TZOFFSETTO:+0200
TZNAME:CEST
END:DAYLIGHT
END:VTIMEZONE
END:VCALENDAR