BEGIN:VCALENDAR
VERSION:2.0
PRODID:-//wp-events-plugin.com//6.6.4.4//EN
TZID:Europe/Berlin
X-WR-TIMEZONE:Europe/Berlin
BEGIN:VEVENT
UID:262@kulturhaus-neukirchen.de
DTSTART;TZID=Europe/Berlin:20270313T190000
DTEND;TZID=Europe/Berlin:20270313T190000
DTSTAMP:20251128T115320Z
URL:https://kulturhaus-neukirchen.de/events/schlagersuesstafel-eine-ost-we
 st-komoedie/
SUMMARY:Schlagersüßtafel: Eine Ost-West-Komödie
DESCRIPTION:Die Ost-West-Komödie verbindet Witz und Gefühl und zeigt\, wi
 e Menschen trotz unterschiedlicher Zeiten und Systeme zusammenfinden.\n\nH
 ildegard aus dem Westen trifft Cornelia aus dem Osten. Sie hatten sich sch
 on einmal kennengelernt\, in der 70ern. Damals war Hildegard in die DDR ge
 reist und wurde von Cornelia begeistert im real existierenden Sozialismus 
 geschult… Lassen Sie sich mitreißen mit aktuellem Witz und rührender S
 timmung in eine spannende alte und neue Zeit! Eine Erfahrung haben beide g
 emacht: Im Vordergrund steht nicht das System sondern der Mensch.\n\nEs sp
 ielen: Sigrun Stiehl &amp\; Katinka Riemann\n\nEinlass: 18 Uhr\n\nBeginn: 
 19 Uhr\n\nTickets gibt es hier &gt\;&gt\;&gt\;
ATTACH;FMTTYPE=image/jpeg:https://kulturhaus-neukirchen.de/wp-content/uplo
 ads/2025/11/Galli-SchlagerSuess-2-scaled.jpg
CATEGORIES:Kultur,Öffentlich
LOCATION:Saal\, Hötzelsrodaer Straße 2\, Neukirchen\, Deutschland
X-APPLE-STRUCTURED-LOCATION;VALUE=URI;X-ADDRESS=Hötzelsrodaer Straße 2\, 
 Neukirchen\, Deutschland;X-APPLE-RADIUS=100;X-TITLE=Saal:geo:0,0
END:VEVENT
BEGIN:VTIMEZONE
TZID:Europe/Berlin
X-LIC-LOCATION:Europe/Berlin
BEGIN:STANDARD
DTSTART:20261025T020000
TZOFFSETFROM:+0200
TZOFFSETTO:+0100
TZNAME:CET
END:STANDARD
END:VTIMEZONE
END:VCALENDAR