BEGIN:VCALENDAR
VERSION:2.0
PRODID:-//wp-events-plugin.com//6.6.4.4//EN
TZID:Europe/Berlin
X-WR-TIMEZONE:Europe/Berlin
BEGIN:VEVENT
UID:263@kulturhaus-neukirchen.de
DTSTART;TZID=Europe/Berlin:20270626T200000
DTEND;TZID=Europe/Berlin:20270626T223000
DTSTAMP:20251128T120325Z
URL:https://kulturhaus-neukirchen.de/events/shakti-und-matze/
SUMMARY:Shakti und Matze
DESCRIPTION:shaktiundmatze.de\n\n&nbsp\;\n\nFoto: Antje Kröger
ATTACH;FMTTYPE=image/jpeg:https://kulturhaus-neukirchen.de/wp-content/uplo
 ads/2025/11/Shakti-und-Matze-Foto_Antje-Kroeger-1.jpg
CATEGORIES:Musik,Öffentlich
LOCATION:Saal\, Hötzelsrodaer Straße 2\, Neukirchen\, Deutschland
X-APPLE-STRUCTURED-LOCATION;VALUE=URI;X-ADDRESS=Hötzelsrodaer Straße 2\, 
 Neukirchen\, Deutschland;X-APPLE-RADIUS=100;X-TITLE=Saal:geo:0,0
END:VEVENT
BEGIN:VTIMEZONE
TZID:Europe/Berlin
X-LIC-LOCATION:Europe/Berlin
BEGIN:DAYLIGHT
DTSTART:20270328T030000
TZOFFSETFROM:+0100
TZOFFSETTO:+0200
TZNAME:CEST
END:DAYLIGHT
END:VTIMEZONE
END:VCALENDAR