BEGIN:VCALENDAR
VERSION:2.0
PRODID:-//wp-events-plugin.com//6.6.4.4//EN
TZID:Europe/Berlin
X-WR-TIMEZONE:Europe/Berlin
BEGIN:VEVENT
UID:260@kulturhaus-neukirchen.de
DTSTART;TZID=Europe/Berlin:20261227T190000
DTEND;TZID=Europe/Berlin:20261227T234500
DTSTAMP:20251013T115603Z
URL:https://kulturhaus-neukirchen.de/events/stammtisch-33/
SUMMARY:Stammtisch
DESCRIPTION:\n\n\n\n\nJeden letzten Freitag im Monat - wegen Weihnachten in
  diesem Monat an einem Sonntag - öffnet das Kulturhaus ab 19 seine Kneipe
  für alle\, die die Woche gern in Gesellschaft ausklingen lassen wollen.\
 n\n\n\n\n\n\n\n\n\n\n
ATTACH;FMTTYPE=image/jpeg:https://kulturhaus-neukirchen.de/wp-content/uplo
 ads/2025/10/Stammtisch-Kulturhaus-Neukirchen.jpg
CATEGORIES:Öffentlich,Stammtisch
LOCATION:Kneipe\, Hötzelsrodaer Straße 2\, Neukirchen\, Deutschland
X-APPLE-STRUCTURED-LOCATION;VALUE=URI;X-ADDRESS=Hötzelsrodaer Straße 2\, 
 Neukirchen\, Deutschland;X-APPLE-RADIUS=100;X-TITLE=Kneipe:geo:0,0
END:VEVENT
BEGIN:VTIMEZONE
TZID:Europe/Berlin
X-LIC-LOCATION:Europe/Berlin
BEGIN:STANDARD
DTSTART:20261025T020000
TZOFFSETFROM:+0200
TZOFFSETTO:+0100
TZNAME:CET
END:STANDARD
END:VTIMEZONE
END:VCALENDAR