BEGIN:VCALENDAR
VERSION:2.0
PRODID:-//wp-events-plugin.com//6.6.4.4//EN
TZID:Europe/Berlin
X-WR-TIMEZONE:Europe/Berlin
BEGIN:VEVENT
UID:164@kulturhaus-neukirchen.de
DTSTART;TZID=Europe/Berlin:20250322T190000
DTEND;TZID=Europe/Berlin:20250322T190000
DTSTAMP:20250318T122529Z
URL:https://kulturhaus-neukirchen.de/events/theater-am-markt-impro-show/
SUMMARY:Theater am Markt: Impro-Show
DESCRIPTION:Tickets: im Ticketshop\nImprosant - Die Improshow \nAlles\, was
  das Theater-Ensemble an Informationen für eine Szene benötigt\, erhält
  es live von euch: einen Ort\, einen Gegenstand\, ein Genre oder auch nur 
 einen Buchstaben.\nDann wird eingezählt: 5-4-3-2-1-LOS! Was folgt\, wisse
 n weder die Spielenden noch die Zuschauenden. Ein Comic\, eine Reality-Sho
 w oder eine Oper? Oder alles auf einmal? Ob zum Lachen\, zum Weinen\, zum 
 Beklatschen oder zum Ausbuhen - das wird sich erst am Ende der Szene zeige
 n. Die Agierenden wagen sich in unbekannte und immer wieder neue Geschicht
 en.\nDafür unverzichtbar: Das Publikum! Keine Sorge\, bei "Improsant" mus
 s niemand auf die Bühne\, aber die Schauspieler fragen nach Orten\, Emoti
 onen und anderen kreativen Einfällen - so wird jede Show zum individuelle
 n Erlebnis.\n\n\n[caption id="attachment_1525" align="aligncenter" width="
 1024"] Foto: Sascha Willms [/caption]\nPreis:\n\n\n 	12 € Erwachsene\n\
 n\n\nHinweis: Die Veranstaltung findet in der Kneipe statt\, die Anzahl de
 r Plätze ist also limitiert!\n\n
ATTACH;FMTTYPE=image/jpeg:https://kulturhaus-neukirchen.de/wp-content/uplo
 ads/2024/11/Banner-Impro.jpeg
CATEGORIES:Kultur,Öffentlich
LOCATION:Kneipe\, Hötzelsrodaer Straße 2\, Neukirchen\, Deutschland
X-APPLE-STRUCTURED-LOCATION;VALUE=URI;X-ADDRESS=Hötzelsrodaer Straße 2\, 
 Neukirchen\, Deutschland;X-APPLE-RADIUS=100;X-TITLE=Kneipe:geo:0,0
END:VEVENT
BEGIN:VTIMEZONE
TZID:Europe/Berlin
X-LIC-LOCATION:Europe/Berlin
BEGIN:STANDARD
DTSTART:20241027T020000
TZOFFSETFROM:+0200
TZOFFSETTO:+0100
TZNAME:CET
END:STANDARD
END:VTIMEZONE
END:VCALENDAR