BEGIN:VCALENDAR
VERSION:2.0
PRODID:-//wp-events-plugin.com//6.6.4.4//EN
TZID:Europe/Berlin
X-WR-TIMEZONE:Europe/Berlin
BEGIN:VEVENT
UID:85@kulturhaus-neukirchen.de
DTSTART;TZID=Europe/Berlin:20241130T200000
DTEND;TZID=Europe/Berlin:20241130T220000
DTSTAMP:20241126T190327Z
URL:https://kulturhaus-neukirchen.de/events/theater-wie-entsorge-ich-meine
 n-alten/
SUMMARY:Theater: Wie entsorge ich meinen Alten?
DESCRIPTION:AUSVERKAUFT! ES GIBT KEINE KARTEN MEHR FÜR DIESE AUFFÜHRUNG\n
 Das Theater im Palais aus Erfurt ist zu Gast im Kulturhaus und spielt die 
 Komödie "Wie entsorge ich meinen Alten?"\n\nWie entsorge ich meinen Alten
 ?\nDer dauerabgebrannte Karl wirbt damit\, gegen anständige Bezahlung all
 es zu entsorgen – schnell\, sauber und diskret – quasi mit einem Schla
 g\, wie sein Vorbild Rocky\, der Boxer. Einen lukrativen Auftrag hat er sc
 hon geangelt. Zahnarzt Dr. Fleischmann möchte ein unliebsames Objekt aus 
 seiner neuen Stadtwohnung entsorgt wissen. \n\nDoch dieser Job scheint sch
 wieriger als gedacht: Nicht nur hindert ihn die allgegenwärtige Hausmeist
 erin daran\, seinen Auftrag diskret zu erledigen und seinen Lohn einzukass
 ieren. Nein\, immer wieder taucht auch noch die merkwürdige Geliebte des 
 Arztes auf\, die das besagte Objekt nicht sehen soll. Und nun erteilt sie 
 ihm auch noch einen neuen Auftrag … \n\nZwischen Zahnarzt und Empfangsda
 me\, Ehemann und Ehefrau\, der Hausmeisterin und seiner äußerst eifersü
 chtigen Freundin Susi kommt Rocky ganz schön ins Schwitzen und muss bald 
 mehr entsorgen\, als er bewältigen kann … sehr zur Freude des Publikums
 \, das sich dabei königlich amüsiert. \n\nDauer: ca. 2 Stunden inkl. Pau
 se \n\nEs spielen: R. Franke\, T. Banzhaf\, J. Quast\, H. Kus\n\n\n\n\nEin
 tritt: 18 €\n\n
ATTACH;FMTTYPE=image/jpeg:https://kulturhaus-neukirchen.de/wp-content/uplo
 ads/2024/04/Wie-entsorge-ich-meinen-Alten.jpg
CATEGORIES:Kultur,Öffentlich
LOCATION:Saal\, Hötzelsrodaer Straße 2\, Neukirchen\, Deutschland
X-APPLE-STRUCTURED-LOCATION;VALUE=URI;X-ADDRESS=Hötzelsrodaer Straße 2\, 
 Neukirchen\, Deutschland;X-APPLE-RADIUS=100;X-TITLE=Saal:geo:0,0
END:VEVENT
BEGIN:VTIMEZONE
TZID:Europe/Berlin
X-LIC-LOCATION:Europe/Berlin
BEGIN:STANDARD
DTSTART:20241027T020000
TZOFFSETFROM:+0200
TZOFFSETTO:+0100
TZNAME:CET
END:STANDARD
END:VTIMEZONE
END:VCALENDAR