BEGIN:VCALENDAR
VERSION:2.0
PRODID:-//wp-events-plugin.com//6.6.4.4//EN
TZID:Europe/Berlin
X-WR-TIMEZONE:Europe/Berlin
BEGIN:VEVENT
UID:124@kulturhaus-neukirchen.de
DTSTART;TZID=Europe/Berlin:20250214T190000
DTEND;TZID=Europe/Berlin:20250214T213000
DTSTAMP:20250122T133548Z
URL:https://kulturhaus-neukirchen.de/events/vortrag-mit-rainer-laemmerhirt
 /
SUMMARY:Vortrag mit Rainer Lämmerhirt
DESCRIPTION:Thema: Ostern 1945 - Die Kämpfe an der Werra vor 80 Jahren\n\n
 Der Mihlaer Ortschronist Rainer Lämmerhirt besucht uns im Kulturhaus und 
 bringt neben umfassendem historischen Wissen auch viele Fotos mit. Im Gep
 äck hat er auch sein neues Buch "Oster 1945 - Krieg im Werratal"\, das er
  an diesem Abend erstmals der Öffentlichkeit vorstellen möchte. Das Buch
  kann im Rahmen der Veranstaltung für 19\,50 € gekauft werden.\n\nFreut
  euch auf einen spannenden und informationsreichen Abend.\n\n\n\n&nbsp\;
ATTACH;FMTTYPE=image/jpeg:https://kulturhaus-neukirchen.de/wp-content/uplo
 ads/2024/10/Vortrag-Laemmerhirt.png
CATEGORIES:Öffentlich,Vortrag
LOCATION:Saal\, Hötzelsrodaer Straße 2\, Neukirchen\, Deutschland
X-APPLE-STRUCTURED-LOCATION;VALUE=URI;X-ADDRESS=Hötzelsrodaer Straße 2\, 
 Neukirchen\, Deutschland;X-APPLE-RADIUS=100;X-TITLE=Saal:geo:0,0
END:VEVENT
BEGIN:VTIMEZONE
TZID:Europe/Berlin
X-LIC-LOCATION:Europe/Berlin
BEGIN:STANDARD
DTSTART:20241027T020000
TZOFFSETFROM:+0200
TZOFFSETTO:+0100
TZNAME:CET
END:STANDARD
END:VTIMEZONE
END:VCALENDAR