BEGIN:VCALENDAR
VERSION:2.0
PRODID:-//wp-events-plugin.com//6.6.4.4//EN
TZID:Europe/Berlin
X-WR-TIMEZONE:Europe/Berlin
BEGIN:VEVENT
UID:272@kulturhaus-neukirchen.de
DTSTART;TZID=Europe/Berlin:20261212T200000
DTEND;TZID=Europe/Berlin:20261212T213000
DTSTAMP:20251211T124147Z
URL:https://kulturhaus-neukirchen.de/events/weihnachtliches-chorkonzert/
SUMMARY:Weihnachtliches Chorkonzert
DESCRIPTION:An diesem Abend begrüßen wir den Michael-Praetorius-Chor aus 
 Creuzburg sowie den Kirchenchor Neukirchen im Kulturhaus zum Weihnachtskon
 zert. Mal ganz klassisch und besinnlich\, dann wieder beschwingt und zum M
 itsingen - das musikalische Repertoire an diesem Abend wird einiges zu bie
 ten haben.\nEintritt: frei/auf Spendenbasis\nEinlass: 19 Uhr\nBeginn: 20 U
 hr
CATEGORIES:Musik,Öffentlich
LOCATION:Saal\, Hötzelsrodaer Straße 2\, Neukirchen\, Deutschland
X-APPLE-STRUCTURED-LOCATION;VALUE=URI;X-ADDRESS=Hötzelsrodaer Straße 2\, 
 Neukirchen\, Deutschland;X-APPLE-RADIUS=100;X-TITLE=Saal:geo:0,0
END:VEVENT
BEGIN:VTIMEZONE
TZID:Europe/Berlin
X-LIC-LOCATION:Europe/Berlin
BEGIN:STANDARD
DTSTART:20261025T020000
TZOFFSETFROM:+0200
TZOFFSETTO:+0100
TZNAME:CET
END:STANDARD
END:VTIMEZONE
END:VCALENDAR